BEGIN:VCALENDAR
VERSION:2.0
PRODID:-//Académie Internationale Zig Zag - ECPv6.15.11//NONSGML v1.0//EN
CALSCALE:GREGORIAN
METHOD:PUBLISH
X-ORIGINAL-URL:https://zigetzag.com
X-WR-CALDESC:Événements pour Académie Internationale Zig Zag
REFRESH-INTERVAL;VALUE=DURATION:PT1H
X-Robots-Tag:noindex
X-PUBLISHED-TTL:PT1H
BEGIN:VTIMEZONE
TZID:UTC
BEGIN:STANDARD
TZOFFSETFROM:+0000
TZOFFSETTO:+0000
TZNAME:UTC
DTSTART:20200101T000000
END:STANDARD
END:VTIMEZONE
BEGIN:VEVENT
DTSTART;TZID=UTC:20220704T073000
DTEND;TZID=UTC:20220830T173000
DTSTAMP:20260423T155310
CREATED:20220310T143952Z
LAST-MODIFIED:20220317T132912Z
UID:5340-1656919800-1661880600@zigetzag.com
SUMMARY:CAMPS DE JOUR
DESCRIPTION:
URL:https://zigetzag.com/evenements/camps-de-jour/
LOCATION:ACADÉMIE INTERNATIONALE ZIG ZAG\, 27 rue Laurier Ouest\, Victoriaville\, Québec\, G6P6P4\, Canada
ORGANIZER;CN="Acad%C3%A9mie Internationale Zig Zag":MAILTO:info@zigetzag.com
END:VEVENT
BEGIN:VEVENT
DTSTART;TZID=UTC:20220515T100000
DTEND;TZID=UTC:20220515T130000
DTSTAMP:20260423T155310
CREATED:20220422T140313Z
LAST-MODIFIED:20220502T175310Z
UID:5768-1652608800-1652619600@zigetzag.com
SUMMARY:Portes ouvertes 15 mai 4ans à 6e année
DESCRIPTION:
URL:https://zigetzag.com/evenements/portes-ouvertes-2/
LOCATION:ACADÉMIE INTERNATIONALE ZIG ZAG\, 27 rue Laurier Ouest\, Victoriaville\, Québec\, G6P6P4\, Canada
ORGANIZER;CN="Acad%C3%A9mie Internationale Zig Zag":MAILTO:info@zigetzag.com
END:VEVENT
BEGIN:VEVENT
DTSTART;TZID=UTC:20220410T100000
DTEND;TZID=UTC:20220410T130000
DTSTAMP:20260423T155310
CREATED:20220316T153812Z
LAST-MODIFIED:20220317T133044Z
UID:5429-1649584800-1649595600@zigetzag.com
SUMMARY:Portes ouvertes
DESCRIPTION:
URL:https://zigetzag.com/evenements/portes-ouvertes/
LOCATION:ACADÉMIE INTERNATIONALE ZIG ZAG\, 27 rue Laurier Ouest\, Victoriaville\, Québec\, G6P6P4\, Canada
ORGANIZER;CN="Acad%C3%A9mie Internationale Zig Zag":MAILTO:info@zigetzag.com
END:VEVENT
BEGIN:VEVENT
DTSTART;TZID=UTC:20220316T080000
DTEND;TZID=UTC:20220324T180000
DTSTAMP:20260423T155310
CREATED:20220315T191929Z
LAST-MODIFIED:20220315T191929Z
UID:5422-1647417600-1648144800@zigetzag.com
SUMMARY:Campagne de financement Éco-santé
DESCRIPTION:
URL:https://zigetzag.com/evenements/campagne-de-financement-eco-sante/
LOCATION:Québec
END:VEVENT
BEGIN:VEVENT
DTSTART;TZID=UTC:20220220T100000
DTEND;TZID=UTC:20220220T130000
DTSTAMP:20260423T155310
CREATED:20220124T202234Z
LAST-MODIFIED:20220125T162657Z
UID:5188-1645351200-1645362000@zigetzag.com
SUMMARY:PORTES OUVERTES 20 FÉVRIER 2022
DESCRIPTION:ÉCOLE PRIVÉE | MATERNELLE | PRIMAIRE
URL:https://zigetzag.com/evenements/portes-ouvertes-20-fevrier-2022/
LOCATION:ACADÉMIE INTERNATIONALE ZIG ZAG\, 27 rue Laurier Ouest\, Victoriaville\, Québec\, G6P6P4\, Canada
ORGANIZER;CN="Acad%C3%A9mie Internationale Zig Zag":MAILTO:info@zigetzag.com
END:VEVENT
BEGIN:VEVENT
DTSTART;TZID=UTC:20211110T070000
DTEND;TZID=UTC:20211110T173000
DTSTAMP:20260423T155310
CREATED:20211015T003136Z
LAST-MODIFIED:20220118T183644Z
UID:5123-1636527600-1636565400@zigetzag.com
SUMMARY:Tirage moitié-moitié
DESCRIPTION:  \n1 billet 5 $ \n2 billets 10 $ \n5 billets 20 $
URL:https://zigetzag.com/evenements/tirage-moitie-moitie/
LOCATION:Québec
END:VEVENT
END:VCALENDAR